BEGIN:VCALENDAR
VERSION:2.0
PRODID:-//CiviCRM//NONSGML CiviEvent iCal//EN
X-WR-TIMEZONE:Europe/London
METHOD:PUBLISH
BEGIN:VTIMEZONE
TZID:Europe/London
BEGIN:DAYLIGHT
TZOFFSETFROM:+0100
TZOFFSETTO:+0100
TZNAME:BST
DTSTART:20260519T110000
END:DAYLIGHT
END:VTIMEZONE
BEGIN:VEVENT
UID:CiviCRM_EventID_98_3b79d502593e3d7f92580130e54fd34a@www.ephmra.org
SUMMARY:MR Awards Future Leaders Winner Webinar
X-ALT-DESC;FMTTYPE=text/html:<!DOCTYPE HTML PUBLIC
  "-//W3C//DTD HTML 3.2//EN"><html><body><p>Join Ho
 llie Hamilton from Beyond Blue and winner of this 
 year’s Future Leaders Award 2026\, as she presents
  her award-winning submission</p>\n \n <p>‘From in
 sight to impact: translating Primary Market Resear
 ch findings into strategic decision-making ’ </p>\
 n \n <p>Convened by Sam Hope from awards sponsor B
 eyond Blue\, this webinar will provide an opportun
 ity to hear more about this topic\, ask questions 
 and learn about the submission that the judges sel
 ected as our 2026 Future Leaders winner.</p></body
 ></html>
DESCRIPTION:Join Hollie Hamilton from Beyond Blue and winner o
 f this year’s Future Leaders Award 2026\, as she p
 resents her award-winning submission\n \n \n \n ‘F
 rom insight to impact: translating Primary Market 
 Research findings into strategic decision-making ’
  \n \n \n \n Convened by Sam Hope from awards spon
 sor Beyond Blue\, this webinar will provide an opp
 ortunity to hear more about this topic\, ask quest
 ions and learn about the submission that the judge
 s selected as our 2026 Future Leaders winner.\n \n
  
CATEGORIES:Webinar
CALSCALE:GREGORIAN
DTSTAMP;TZID=Europe/London:20260519T110000
DTSTART;TZID=Europe/London:20260519T110000
DTEND;TZID=Europe/London:20260519T113000
URL:https://www.ephmra.org/civicrm/event/info?reset=1&id=98
END:VEVENT
END:VCALENDAR
