BEGIN:VCALENDAR
VERSION:2.0
PRODID:-//CiviCRM//NONSGML CiviEvent iCal//EN
X-WR-TIMEZONE:Europe/London
METHOD:PUBLISH
BEGIN:VTIMEZONE
TZID:Europe/London
BEGIN:DAYLIGHT
TZOFFSETFROM:+0100
TZOFFSETTO:+0100
TZNAME:BST
DTSTART:20260623T130000
END:DAYLIGHT
END:VTIMEZONE
BEGIN:VEVENT
UID:CiviCRM_EventID_78_3b79d502593e3d7f92580130e54fd34a@www.ephmra.org
SUMMARY:2026 Conference
X-ALT-DESC;FMTTYPE=text/html:<!DOCTYPE HTML PUBLIC
  "-//W3C//DTD HTML 3.2//EN"><html><body><p>You can
  now <a href="https://ephmraconference.org/registr
 ation-2025/">register</a> as a delgate for the eve
 nt.</p>\n \n <p>See our main <a href="https://ephm
 raconference.org/">Conference Website</a> for more
  details.</p></body></html>
DESCRIPTION:You can now register (https://ephmraconference.org
 /registration-2025/) as a delgate for the event.\n
  \n \n \n See our main Conference Website (https:/
 /ephmraconference.org/) for more details.\n \n 
CATEGORIES:Conference
CALSCALE:GREGORIAN
DTSTAMP;TZID=Europe/London:20260623T130000
DTSTART;TZID=Europe/London:20260623T130000
DTEND;TZID=Europe/London:20260625T170000
LOCATION:Leonardo Royal London St Paul's\n Leonardo Royal L
 ondon St Paul's\n 10 Godliman Street\n London\, EC
 4V 5AJ\n United Kingdom\n 
URL:https://www.ephmra.org/civicrm/event/info?reset=1&id=78
END:VEVENT
END:VCALENDAR
